{
 "currentVersion": 10.91,
 "serviceDescription": "orto/Ortofoto_2023",
 "name": "orto/Ortofoto_2023",
 "description": "",
 "extent": {
  "xmin": 137500.00708799995,
  "ymin": 6227499.929228034,
  "xmax": 167500.00708799995,
  "ymax": 6294999.929228034,
  "spatialReference": {
   "wkid": 3010,
   "latestWkid": 3010
  }
 },
 "initialExtent": {
  "xmin": 137500.00708799995,
  "ymin": 6227499.929228034,
  "xmax": 167500.00708799995,
  "ymax": 6294999.929228034,
  "spatialReference": {
   "wkid": 3010,
   "latestWkid": 3010
  }
 },
 "fullExtent": {
  "xmin": 137500.00708799995,
  "ymin": 6227499.929228034,
  "xmax": 167500.00708799995,
  "ymax": 6294999.929228034,
  "spatialReference": {
   "wkid": 3010,
   "latestWkid": 3010
  }
 },
 "hasMultidimensions": false,
 "pixelSizeX": 0.16,
 "pixelSizeY": 0.16,
 "datasetFormat": "SDR",
 "uncompressedSize": 237304687500,
 "blockWidth": 128,
 "blockHeight": 128,
 "compressionType": "LZ77",
 "bandNames": [
  "Band_1",
  "Band_2",
  "Band_3"
 ],
 "allowCopy": true,
 "allowAnalysis": true,
 "bandCount": 3,
 "pixelType": "U8",
 "minPixelSize": 0,
 "maxPixelSize": 0,
 "copyrightText": "",
 "serviceDataType": "esriImageServiceDataTypeRGB",
 "serviceSourceType": "esriImageServiceSourceTypeDataset",
 "minValues": [
  1,
  1,
  1
 ],
 "maxValues": [
  255,
  255,
  255
 ],
 "meanValues": [
  60.380054876427195,
  64.47520543398811,
  65.78488380719132
 ],
 "stdvValues": [
  37.46224084198403,
  36.16245293959614,
  34.257799607304364
 ],
 "objectIdField": "",
 "fields": [],
 "capabilities": "Image,Metadata,Mensuration",
 "defaultMosaicMethod": "Center",
 "allowedMosaicMethods": "",
 "sortField": "",
 "sortValue": null,
 "sortAscending": true,
 "mosaicOperator": "First",
 "defaultCompressionQuality": 80,
 "defaultResamplingMethod": "Bilinear",
 "maxImageHeight": 4100,
 "maxImageWidth": 15000,
 "allowRasterFunction": true,
 "rasterFunctionInfos": [
  {
   "name": "None",
   "description": "",
   "help": ""
  }
 ],
 "rasterTypeInfos": [
  {
   "name": "Raster Dataset",
   "description": "Supports all ArcGIS Raster Datasets",
   "help": ""
  }
 ],
 "mensurationCapabilities": "Basic",
 "hasHistograms": true,
 "hasColormap": false,
 "hasRasterAttributeTable": false,
 "minScale": 0,
 "maxScale": 0,
 "exportTilesAllowed": false,
 "supportsStatistics": false,
 "supportsAdvancedQueries": false,
 "editFieldsInfo": null,
 "ownershipBasedAccessControlForRasters": null,
 "allowComputeTiePoints": false,
 "useStandardizedQueries": true,
 "advancedQueryCapabilities": {
  "useStandardizedQueries": true,
  "supportsStatistics": false,
  "supportsOrderBy": false,
  "supportsDistinct": false,
  "supportsPagination": false
 },
 "spatialReference": {
  "wkid": 3010,
  "latestWkid": 3010
 }
}
