View In:
ArcGIS JavaScript
ArcGIS Online Map Viewer
ArcGIS Earth
ArcMap
View Footprint In:
ArcGIS Online Map Viewer
Service Description: orto/Ortofoto_2023
Name: orto/Ortofoto_2023
Description:
Single Fused Map Cache: false
Extent:
XMin: 137500.00708799995
YMin: 6227499.929228034
XMax: 167500.00708799995
YMax: 6294999.929228034
Spatial Reference: 3010
(3010)
LatestVCSWkid(0)
Initial Extent:
XMin: 137500.00708799995
YMin: 6227499.929228034
XMax: 167500.00708799995
YMax: 6294999.929228034
Spatial Reference: 3010
(3010)
LatestVCSWkid(0)
Full Extent:
XMin: 137500.00708799995
YMin: 6227499.929228034
XMax: 167500.00708799995
YMax: 6294999.929228034
Spatial Reference: 3010
(3010)
LatestVCSWkid(0)
Pixel Size X: 0.16
Pixel Size Y: 0.16
Band Count: 3
Pixel Type: U8
RasterFunction Infos: {"rasterFunctionInfos": [{
"name": "None",
"description": "",
"help": ""
}]}
Mensuration Capabilities: Basic
Has Histograms: true
Has Colormap: false
Has Multi Dimensions : false
Rendering Rule:
Min Scale: 0
Max Scale: 0
Copyright Text:
Service Data Type: esriImageServiceDataTypeRGB
Min Values: 1, 1, 1
Max Values: 255, 255, 255
Mean Values: 60.380054876427195, 64.47520543398811, 65.78488380719132
Standard Deviation Values: 37.46224084198403, 36.16245293959614, 34.257799607304364
Object ID Field:
Fields:
None
Default Mosaic Method: Center
Allowed Mosaic Methods:
SortField:
SortValue: null
Mosaic Operator: First
Default Compression Quality: 80
Default Resampling Method: Bilinear
Max Record Count: null
Max Image Height: 4100
Max Image Width: 15000
Max Download Image Count: null
Max Mosaic Image Count: null
Allow Raster Function: true
Allow Copy: true
Allow Analysis: true
Allow Compute TiePoints: false
Supports Statistics: false
Supports Advanced Queries: false
Use StandardizedQueries: true
Raster Type Infos:
Name: Raster Dataset
Description: Supports all ArcGIS Raster Datasets
Help:
Has Raster Attribute Table: false
Edit Fields Info: null
Ownership Based AccessControl For Rasters: null
Child Resources:
Info
Histograms
Statistics
Key Properties
Legend
Raster Function Infos
Supported Operations:
Export Image
Identify
Measure
Compute Histograms
Compute Statistics Histograms
Get Samples
Compute Class Statistics
Query Boundary
Compute Pixel Location
Compute Angles
Validate
Project