{
 "currentVersion": 10.91,
 "serviceDescription": "Ortofoto_2021",
 "name": "Ortofoto_2021",
 "description": "",
 "extent": {
  "xmin": 137500,
  "ymin": 6227500,
  "xmax": 170000,
  "ymax": 6297500,
  "spatialReference": {
   "wkid": 3010,
   "latestWkid": 3010
  }
 },
 "initialExtent": {
  "xmin": 137500,
  "ymin": 6227500,
  "xmax": 170000,
  "ymax": 6297500,
  "spatialReference": {
   "wkid": 3010,
   "latestWkid": 3010
  }
 },
 "fullExtent": {
  "xmin": 137500,
  "ymin": 6227500,
  "xmax": 170000,
  "ymax": 6297500,
  "spatialReference": {
   "wkid": 3010,
   "latestWkid": 3010
  }
 },
 "hasMultidimensions": false,
 "pixelSizeX": 0.16,
 "pixelSizeY": 0.16,
 "datasetFormat": "SDR",
 "uncompressedSize": 266601562500,
 "blockWidth": 128,
 "blockHeight": 128,
 "compressionType": "LZ77",
 "bandNames": [
  "Band_1",
  "Band_2",
  "Band_3"
 ],
 "allowCopy": true,
 "allowAnalysis": true,
 "bandCount": 3,
 "pixelType": "U8",
 "minPixelSize": 0,
 "maxPixelSize": 0,
 "copyrightText": "",
 "serviceDataType": "esriImageServiceDataTypeRGB",
 "serviceSourceType": "esriImageServiceSourceTypeDataset",
 "minValues": [
  1,
  1,
  1
 ],
 "maxValues": [
  255,
  255,
  255
 ],
 "meanValues": [
  19.376852903522366,
  30.147496151710133,
  36.76754127939313
 ],
 "stdvValues": [
  19.613539216729947,
  24.042126326319643,
  25.01032753083468
 ],
 "objectIdField": "",
 "fields": [],
 "capabilities": "Image,Metadata,Mensuration",
 "defaultMosaicMethod": "Center",
 "allowedMosaicMethods": "",
 "sortField": "",
 "sortValue": null,
 "sortAscending": true,
 "mosaicOperator": "First",
 "defaultCompressionQuality": 75,
 "defaultResamplingMethod": "Bilinear",
 "maxImageHeight": 4100,
 "maxImageWidth": 15000,
 "allowRasterFunction": true,
 "rasterFunctionInfos": [
  {
   "name": "None",
   "description": "",
   "help": ""
  }
 ],
 "rasterTypeInfos": [
  {
   "name": "Raster Dataset",
   "description": "Supports all ArcGIS Raster Datasets",
   "help": ""
  }
 ],
 "mensurationCapabilities": "Basic",
 "hasHistograms": true,
 "hasColormap": false,
 "hasRasterAttributeTable": false,
 "minScale": 0,
 "maxScale": 0,
 "exportTilesAllowed": false,
 "supportsStatistics": false,
 "supportsAdvancedQueries": false,
 "editFieldsInfo": null,
 "ownershipBasedAccessControlForRasters": null,
 "allowComputeTiePoints": false,
 "useStandardizedQueries": true,
 "advancedQueryCapabilities": {
  "useStandardizedQueries": true,
  "supportsStatistics": false,
  "supportsOrderBy": false,
  "supportsDistinct": false,
  "supportsPagination": false
 },
 "spatialReference": {
  "wkid": 3010,
  "latestWkid": 3010
 }
}
