View In:
ArcGIS JavaScript
ArcGIS Online Map Viewer
ArcGIS Earth
ArcMap
View Footprint In:
ArcGIS Online Map Viewer
Service Description: Orto_2015
Name: Orto_2015
Description:
Single Fused Map Cache: false
Extent:
XMin: 1818541.4849369829
YMin: 7592264.193907252
XMax: 1873231.5710504234
YMax: 7723655.4429391315
Spatial Reference: 102100
(3857)
LatestVCSWkid(0)
Initial Extent:
XMin: 1818541.4849369829
YMin: 7592264.193907252
XMax: 1873231.5710504234
YMax: 7723655.4429391315
Spatial Reference: 102100
(3857)
LatestVCSWkid(0)
Full Extent:
XMin: 1818541.4849369829
YMin: 7592264.193907252
XMax: 1873231.5710504234
YMax: 7723655.4429391315
Spatial Reference: 102100
(3857)
LatestVCSWkid(0)
Pixel Size X: 0.25
Pixel Size Y: 0.25
Band Count: 3
Pixel Type: U8
RasterFunction Infos: {"rasterFunctionInfos": [{
"name": "None",
"description": "",
"help": ""
}]}
Mensuration Capabilities: Basic
Has Histograms: true
Has Colormap: false
Has Multi Dimensions : false
Rendering Rule:
Min Scale: 577790.554289
Max Scale: 1128.497176
Copyright Text:
Service Data Type: esriImageServiceDataTypeElevation
Min Values: 0, 0, 0
Max Values: 255, 255, 255
Mean Values: 8.538371876666666, 11.037202708333334, 12.450996443333333
Standard Deviation Values: 20.1989122543534, 24.680237749706063, 26.816218143160228
Object ID Field:
Fields:
None
Default Mosaic Method: Center
Allowed Mosaic Methods:
SortField:
SortValue: null
Mosaic Operator: First
Default Compression Quality: 75
Default Resampling Method: Bilinear
Max Record Count: null
Max Image Height: 4100
Max Image Width: 15000
Max Download Image Count: null
Max Mosaic Image Count: null
Allow Raster Function: true
Allow Copy: null
Allow Analysis: null
Allow Compute TiePoints: false
Supports Statistics: false
Supports Advanced Queries: false
Use StandardizedQueries: true
Raster Type Infos:
Name: Raster Dataset
Description: Supports all ArcGIS Raster Datasets
Help:
Has Raster Attribute Table: false
Edit Fields Info: null
Ownership Based AccessControl For Rasters: null
Child Resources:
Info
Histograms
Key Properties
Legend
Raster Function Infos
Supported Operations:
Export Image
Identify
Measure
Compute Histograms
Compute Statistics Histograms
Get Samples
Compute Class Statistics
Query Boundary
Compute Pixel Location
Compute Angles
Validate
Project
Calculate Volume